BEGIN:VCALENDAR
VERSION:2.0
PRODID:Events Booking
BEGIN:VEVENT
UID:69e78a2484497
SUMMARY:Cowes Classics Day Car Entry 2025
DESCRIPTION:
DTSTART:20250531T230000Z
DTEND:20250531T230000Z
DTSTAMP:20240310T111428Z
ORGANIZER;CN=Cowes Classics Regatta:MAILTO:online@cowesclassicsregatta.org
END:VEVENT
END:VCALENDAR