BEGIN:VCALENDAR
VERSION:2.0
PRODID:Events Booking
BEGIN:VEVENT
UID:69e7a16d03d25
SUMMARY:Pre Regatta Supper - THU
DESCRIPTION:Get into the regatta mood with a hospitable club supper that be
 gins with a welcome 'Dark 'n' Stormy'. After the classic sailors cocktail\
 , sit down to enjoy Local Steak\, Fries\, Peppercorn Sauce and Garden Sala
 d. Desert is Lemon Posset\, Poppyseed Shortbread and Raspberry Compote.
LOCATION:The Parade\, Cowes\, Isle of Wight PO31 7QS
DTSTART:20250529T183000Z
DTSTAMP:20240204T133928Z
ORGANIZER;CN=Cowes Classics Regatta:MAILTO:online@cowesclassicsregatta.org
GEO:50.76584;-1.299868
X-APPLE-STRUCTURED-LOCATION;VALUE=URI;X-ADDRESS=The Parade\, Cowes\, Isle o
 f Wight PO31 7QS;X-APPLE-RADIUS=72;X-TITLE=Royal London Yacht Club:50.7658
 4;-1.299868
END:VEVENT
BEGIN:VEVENT
UID:69e7a16d03d99
SUMMARY:Welcome BBQ - FRI
DESCRIPTION:This Cowes Classics Regatta BBQ event at RLYC features a welcom
 e glass of Dartmouth Gin &amp\; Tonic\, locally produced Steak\, &nbsp\;Po
 rk or Vegetarian Sausage\, Garlic and Soy Chicken Thigh\, Corn on the Cob\
 , Caesar Salad\, Potato Salad and Dressed Garden Salad\, followed by Tropi
 cal Pavlova.
LOCATION:The Parade\, Cowes\, Isle of Wight PO31 7QS
DTSTART:20250530T183000Z
DTSTAMP:20240204T133928Z
ORGANIZER;CN=Cowes Classics Regatta:MAILTO:online@cowesclassicsregatta.org
GEO:50.76584;-1.299868
X-APPLE-STRUCTURED-LOCATION;VALUE=URI;X-ADDRESS=The Parade\, Cowes\, Isle o
 f Wight PO31 7QS;X-APPLE-RADIUS=72;X-TITLE=Royal London Yacht Club:50.7658
 4;-1.299868
END:VEVENT
BEGIN:VEVENT
UID:69e7a16d03dbd
SUMMARY:Kendalls Fine Art Reception - SAT
DESCRIPTION:The drinks reception at Kendalls Fine Art Gallery has become so
  popular that we have had to set a maximum guest list of 100 people.&nbsp\
 ;The reception remains enitrely free to wristband holding competitors but 
 you will need to make reservations in advance to be included on the guest 
 list.
LOCATION:Bath Rd\, Cowes\, Isle of Wight PO31 7QN
DTSTART:20250531T173000Z
DTSTAMP:20240204T133928Z
ORGANIZER;CN=Cowes Classics Regatta:MAILTO:online@cowesclassicsregatta.org
GEO:50.765269;-1.299368
X-APPLE-STRUCTURED-LOCATION;VALUE=URI;X-ADDRESS=Bath Rd\, Cowes\, Isle of W
 ight PO31 7QN;X-APPLE-RADIUS=72;X-TITLE=Kendalls Fine Art:50.765269;-1.299
 368
END:VEVENT
BEGIN:VEVENT
UID:69e7a16d03df6
SUMMARY:Nyetimber Regatta Dinner - SAT
DESCRIPTION:Nyetimber Classic Cuvée Reception followed by Dartmouth Gin Cu
 red Salmon\, Aromatic Roasted Pork with a Peach and Basil Glaze\, Strawber
 ries and Cream Cheesecake\, Dartmouth Gin and Cassis Compote and including
  half a bottle of wine per person. Guests are asked to arrive at 19.30 for
  20:00 sit-down.
LOCATION:The Parade\, Cowes\, Isle of Wight PO31 7QS
DTSTART:20250531T183000Z
DTSTAMP:20240204T133928Z
ORGANIZER;CN=Cowes Classics Regatta:MAILTO:online@cowesclassicsregatta.org
GEO:50.76584;-1.299868
X-APPLE-STRUCTURED-LOCATION;VALUE=URI;X-ADDRESS=The Parade\, Cowes\, Isle o
 f Wight PO31 7QS;X-APPLE-RADIUS=72;X-TITLE=Royal London Yacht Club:50.7658
 4;-1.299868
END:VEVENT
BEGIN:VEVENT
UID:69e7a16d03e0e
SUMMARY:Survivors' Supper - SUN
DESCRIPTION:A great way to wind down after the event is the 'Survivors Supp
 er'\, a comforting quality meal at the Royal London. Enjoy a two course su
 pper including a very welcome glass of Pimms to get you in the mood.
LOCATION:The Parade\, Cowes\, Isle of Wight PO31 7QS
DTSTART:20250701T173000Z
DTSTAMP:20240204T133928Z
ORGANIZER;CN=Cowes Classics Regatta:MAILTO:online@cowesclassicsregatta.org
GEO:50.76584;-1.299868
X-APPLE-STRUCTURED-LOCATION;VALUE=URI;X-ADDRESS=The Parade\, Cowes\, Isle o
 f Wight PO31 7QS;X-APPLE-RADIUS=72;X-TITLE=Royal London Yacht Club:50.7658
 4;-1.299868
END:VEVENT
BEGIN:VEVENT
UID:69e7a16d03e26
SUMMARY:Extra Competitor Packages (Wristbands)
DESCRIPTION:All yacht entries include a number of Free Competitors Packages
 \, but if you have an extended crew or perhaps have a shore crew you may w
 ish to purchase these Extra Competitor Packages.
LOCATION:The Parade\, Cowes\, Isle of Wight PO31 7QS
DTSTART:20250529T230000Z
DTEND:20250531T230000Z
DTSTAMP:20240204T133928Z
ORGANIZER;CN=Cowes Classics Regatta:MAILTO:online@cowesclassicsregatta.org
GEO:50.76584;-1.299868
X-APPLE-STRUCTURED-LOCATION;VALUE=URI;X-ADDRESS=The Parade\, Cowes\, Isle o
 f Wight PO31 7QS;X-APPLE-RADIUS=72;X-TITLE=Royal London Yacht Club:50.7658
 4;-1.299868
END:VEVENT
END:VCALENDAR