BEGIN:VCALENDAR
VERSION:2.0
PRODID:Events Booking
BEGIN:VEVENT
UID:69e78b2d986a5
SUMMARY:XOD
DESCRIPTION:
LOCATION:The Parade\, Cowes\, Isle of Wight PO31 7QS
DTSTART:20250529T230000Z
DTEND:20250531T230000Z
DTSTAMP:20240203T163205Z
ORGANIZER;CN=Cowes Classics Regatta:MAILTO:online@cowesclassicsregatta.org
GEO:50.76584;-1.299868
X-APPLE-STRUCTURED-LOCATION;VALUE=URI;X-ADDRESS=The Parade\, Cowes\, Isle o
 f Wight PO31 7QS;X-APPLE-RADIUS=72;X-TITLE=Royal London Yacht Club:50.7658
 4;-1.299868
END:VEVENT
BEGIN:VEVENT
UID:69e78b2d9870b
SUMMARY:West Solent One Design
DESCRIPTION:
LOCATION:The Parade\, Cowes\, Isle of Wight PO31 7QS
DTSTART:20250529T230000Z
DTEND:20250531T230000Z
DTSTAMP:20240203T163205Z
ORGANIZER;CN=Cowes Classics Regatta:MAILTO:online@cowesclassicsregatta.org
GEO:50.76584;-1.299868
X-APPLE-STRUCTURED-LOCATION;VALUE=URI;X-ADDRESS=The Parade\, Cowes\, Isle o
 f Wight PO31 7QS;X-APPLE-RADIUS=72;X-TITLE=Royal London Yacht Club:50.7658
 4;-1.299868
END:VEVENT
BEGIN:VEVENT
UID:69e78b2d98722
SUMMARY:Victory - Two Days
DESCRIPTION:
LOCATION:The Parade\, Cowes\, Isle of Wight PO31 7QS
DTSTART:20250529T230000Z
DTEND:20250531T230000Z
DTSTAMP:20240203T163205Z
ORGANIZER;CN=Cowes Classics Regatta:MAILTO:online@cowesclassicsregatta.org
GEO:50.76584;-1.299868
X-APPLE-STRUCTURED-LOCATION;VALUE=URI;X-ADDRESS=The Parade\, Cowes\, Isle o
 f Wight PO31 7QS;X-APPLE-RADIUS=72;X-TITLE=Royal London Yacht Club:50.7658
 4;-1.299868
END:VEVENT
BEGIN:VEVENT
UID:69e78b2d98732
SUMMARY:Spirit of Tradition Yachts 12m LOA and over
DESCRIPTION:
LOCATION:The Parade\, Cowes\, Isle of Wight PO31 7QS
DTSTART:20250529T230000Z
DTEND:20250531T230000Z
DTSTAMP:20240203T163205Z
ORGANIZER;CN=Cowes Classics Regatta:MAILTO:online@cowesclassicsregatta.org
GEO:50.76584;-1.299868
X-APPLE-STRUCTURED-LOCATION;VALUE=URI;X-ADDRESS=The Parade\, Cowes\, Isle o
 f Wight PO31 7QS;X-APPLE-RADIUS=72;X-TITLE=Royal London Yacht Club:50.7658
 4;-1.299868
END:VEVENT
BEGIN:VEVENT
UID:69e78b2d98740
SUMMARY:Spirit of Tradition Yachts less than 11.99m LOA 
DESCRIPTION:
LOCATION:The Parade\, Cowes\, Isle of Wight PO31 7QS
DTSTART:20250529T230000Z
DTEND:20250531T230000Z
DTSTAMP:20240203T163205Z
ORGANIZER;CN=Cowes Classics Regatta:MAILTO:online@cowesclassicsregatta.org
GEO:50.76584;-1.299868
X-APPLE-STRUCTURED-LOCATION;VALUE=URI;X-ADDRESS=The Parade\, Cowes\, Isle o
 f Wight PO31 7QS;X-APPLE-RADIUS=72;X-TITLE=Royal London Yacht Club:50.7658
 4;-1.299868
END:VEVENT
BEGIN:VEVENT
UID:69e78b2d98750
SUMMARY:National Squib
DESCRIPTION:
LOCATION:The Parade\, Cowes\, Isle of Wight PO31 7QS
DTSTART:20250529T230000Z
DTEND:20250531T230000Z
DTSTAMP:20240203T163205Z
ORGANIZER;CN=Cowes Classics Regatta:MAILTO:online@cowesclassicsregatta.org
GEO:50.76584;-1.299868
X-APPLE-STRUCTURED-LOCATION;VALUE=URI;X-ADDRESS=The Parade\, Cowes\, Isle o
 f Wight PO31 7QS;X-APPLE-RADIUS=72;X-TITLE=Royal London Yacht Club:50.7658
 4;-1.299868
END:VEVENT
BEGIN:VEVENT
UID:69e78b2d9875f
SUMMARY:Loch Long One Design
DESCRIPTION:
LOCATION:The Parade\, Cowes\, Isle of Wight PO31 7QS
DTSTART:20250529T230000Z
DTEND:20250531T230000Z
DTSTAMP:20240203T163205Z
ORGANIZER;CN=Cowes Classics Regatta:MAILTO:online@cowesclassicsregatta.org
GEO:50.76584;-1.299868
X-APPLE-STRUCTURED-LOCATION;VALUE=URI;X-ADDRESS=The Parade\, Cowes\, Isle o
 f Wight PO31 7QS;X-APPLE-RADIUS=72;X-TITLE=Royal London Yacht Club:50.7658
 4;-1.299868
END:VEVENT
BEGIN:VEVENT
UID:69e78b2d9876d
SUMMARY:Flying Fifteen
DESCRIPTION:
LOCATION:The Parade\, Cowes\, Isle of Wight PO31 7QS
DTSTART:20250529T230000Z
DTEND:20250531T230000Z
DTSTAMP:20240203T163205Z
ORGANIZER;CN=Cowes Classics Regatta:MAILTO:online@cowesclassicsregatta.org
GEO:50.76584;-1.299868
X-APPLE-STRUCTURED-LOCATION;VALUE=URI;X-ADDRESS=The Parade\, Cowes\, Isle o
 f Wight PO31 7QS;X-APPLE-RADIUS=72;X-TITLE=Royal London Yacht Club:50.7658
 4;-1.299868
END:VEVENT
BEGIN:VEVENT
UID:69e78b2d9877b
SUMMARY:Fife One Design
DESCRIPTION:
LOCATION:The Parade\, Cowes\, Isle of Wight PO31 7QS
DTSTART:20250529T230000Z
DTEND:20250531T230000Z
DTSTAMP:20240203T163205Z
ORGANIZER;CN=Cowes Classics Regatta:MAILTO:online@cowesclassicsregatta.org
GEO:50.76584;-1.299868
X-APPLE-STRUCTURED-LOCATION;VALUE=URI;X-ADDRESS=The Parade\, Cowes\, Isle o
 f Wight PO31 7QS;X-APPLE-RADIUS=72;X-TITLE=Royal London Yacht Club:50.7658
 4;-1.299868
END:VEVENT
BEGIN:VEVENT
UID:69e78b2d98789
SUMMARY:Etchells
DESCRIPTION:
LOCATION:The Parade\, Cowes\, Isle of Wight PO31 7QS
DTSTART:20250529T230000Z
DTEND:20250531T230000Z
DTSTAMP:20240203T163205Z
ORGANIZER;CN=Cowes Classics Regatta:MAILTO:online@cowesclassicsregatta.org
GEO:50.76584;-1.299868
X-APPLE-STRUCTURED-LOCATION;VALUE=URI;X-ADDRESS=The Parade\, Cowes\, Isle o
 f Wight PO31 7QS;X-APPLE-RADIUS=72;X-TITLE=Royal London Yacht Club:50.7658
 4;-1.299868
END:VEVENT
BEGIN:VEVENT
UID:69e78b2d98798
SUMMARY:Dragon - Modern
DESCRIPTION:
LOCATION:The Parade\, Cowes\, Isle of Wight PO31 7QS
DTSTART:20250529T230000Z
DTEND:20250531T230000Z
DTSTAMP:20240203T163205Z
ORGANIZER;CN=Cowes Classics Regatta:MAILTO:online@cowesclassicsregatta.org
GEO:50.76584;-1.299868
X-APPLE-STRUCTURED-LOCATION;VALUE=URI;X-ADDRESS=The Parade\, Cowes\, Isle o
 f Wight PO31 7QS;X-APPLE-RADIUS=72;X-TITLE=Royal London Yacht Club:50.7658
 4;-1.299868
END:VEVENT
BEGIN:VEVENT
UID:69e78b2d987a7
SUMMARY:Dragon - Classic
DESCRIPTION:
LOCATION:The Parade\, Cowes\, Isle of Wight PO31 7QS
DTSTART:20250529T230000Z
DTEND:20250531T230000Z
DTSTAMP:20240203T163205Z
ORGANIZER;CN=Cowes Classics Regatta:MAILTO:online@cowesclassicsregatta.org
GEO:50.76584;-1.299868
X-APPLE-STRUCTURED-LOCATION;VALUE=URI;X-ADDRESS=The Parade\, Cowes\, Isle o
 f Wight PO31 7QS;X-APPLE-RADIUS=72;X-TITLE=Royal London Yacht Club:50.7658
 4;-1.299868
END:VEVENT
BEGIN:VEVENT
UID:69e78b2d987b5
SUMMARY:Daring
DESCRIPTION:
LOCATION:The Parade\, Cowes\, Isle of Wight PO31 7QS
DTSTART:20250529T230000Z
DTEND:20250531T230000Z
DTSTAMP:20240203T163205Z
ORGANIZER;CN=Cowes Classics Regatta:MAILTO:online@cowesclassicsregatta.org
GEO:50.76584;-1.299868
X-APPLE-STRUCTURED-LOCATION;VALUE=URI;X-ADDRESS=The Parade\, Cowes\, Isle o
 f Wight PO31 7QS;X-APPLE-RADIUS=72;X-TITLE=Royal London Yacht Club:50.7658
 4;-1.299868
END:VEVENT
BEGIN:VEVENT
UID:69e78b2d987c4
SUMMARY:Classic Yachts 12m LOA and over
DESCRIPTION:Including Nicholson 32 and 36.
LOCATION:The Parade\, Cowes\, Isle of Wight PO31 7QS
DTSTART:20250529T230000Z
DTEND:20250531T230000Z
DTSTAMP:20240203T163205Z
ORGANIZER;CN=Cowes Classics Regatta:MAILTO:online@cowesclassicsregatta.org
GEO:50.76584;-1.299868
X-APPLE-STRUCTURED-LOCATION;VALUE=URI;X-ADDRESS=The Parade\, Cowes\, Isle o
 f Wight PO31 7QS;X-APPLE-RADIUS=72;X-TITLE=Royal London Yacht Club:50.7658
 4;-1.299868
END:VEVENT
BEGIN:VEVENT
UID:69e78b2d987d4
SUMMARY:Classic Yachts less than 11.9m LOA
DESCRIPTION:Including Contessa 26\, Folkboat\, SCOD\, Stella &amp\; Twister
 .
LOCATION:The Parade\, Cowes\, Isle of Wight PO31 7QS
DTSTART:20250529T230000Z
DTEND:20250531T230000Z
DTSTAMP:20240203T163205Z
ORGANIZER;CN=Cowes Classics Regatta:MAILTO:online@cowesclassicsregatta.org
GEO:50.76584;-1.299868
X-APPLE-STRUCTURED-LOCATION;VALUE=URI;X-ADDRESS=The Parade\, Cowes\, Isle o
 f Wight PO31 7QS;X-APPLE-RADIUS=72;X-TITLE=Royal London Yacht Club:50.7658
 4;-1.299868
END:VEVENT
BEGIN:VEVENT
UID:69e78b2d987e4
SUMMARY:Bembridge One Design
DESCRIPTION:
LOCATION:The Parade\, Cowes\, Isle of Wight PO31 7QS
DTSTART:20250529T230000Z
DTEND:20250531T230000Z
DTSTAMP:20240203T163205Z
ORGANIZER;CN=Cowes Classics Regatta:MAILTO:online@cowesclassicsregatta.org
GEO:50.76584;-1.299868
X-APPLE-STRUCTURED-LOCATION;VALUE=URI;X-ADDRESS=The Parade\, Cowes\, Isle o
 f Wight PO31 7QS;X-APPLE-RADIUS=72;X-TITLE=Royal London Yacht Club:50.7658
 4;-1.299868
END:VEVENT
BEGIN:VEVENT
UID:69e78b2d987f3
SUMMARY:6mR - Two Days
DESCRIPTION:
LOCATION:The Parade\, Cowes\, Isle of Wight PO31 7QS
DTSTART:20250530T230000Z
DTEND:20250531T230000Z
DTSTAMP:20240203T163205Z
ORGANIZER;CN=Cowes Classics Regatta:MAILTO:online@cowesclassicsregatta.org
GEO:50.76584;-1.299868
X-APPLE-STRUCTURED-LOCATION;VALUE=URI;X-ADDRESS=The Parade\, Cowes\, Isle o
 f Wight PO31 7QS;X-APPLE-RADIUS=72;X-TITLE=Royal London Yacht Club:50.7658
 4;-1.299868
END:VEVENT
END:VCALENDAR