BEGIN:VCALENDAR
VERSION:2.0
PRODID:Events Booking
BEGIN:VEVENT
UID:69e79e53d2a3d
SUMMARY:Cowes Classics Day Car Entry
DESCRIPTION:This Cowes Classics Day registration is free of charge.
DTSTART:20240706T230000Z
DTEND:20240706T230000Z
DTSTAMP:20240310T111428Z
ORGANIZER;CN=Cowes Classics Regatta:MAILTO:online@cowesclassicsregatta.org
END:VEVENT
END:VCALENDAR